BEGIN:VCALENDAR
VERSION:2.0
PRODID:icalendar-ruby
CALSCALE:GREGORIAN
BEGIN:VTIMEZONE
TZID:Europe/London
BEGIN:DAYLIGHT
DTSTART:20260329T020000
TZOFFSETFROM:+0000
TZOFFSETTO:+0100
RRULE:FREQ=YEARLY;BYDAY=-1SU;BYMONTH=3
TZNAME:BST
END:DAYLIGHT
BEGIN:STANDARD
DTSTART:20261025T010000
TZOFFSETFROM:+0100
TZOFFSETTO:+0000
RRULE:FREQ=YEARLY;BYDAY=-1SU;BYMONTH=10
TZNAME:GMT
END:STANDARD
END:VTIMEZONE
BEGIN:VEVENT
DTSTAMP:20260421T152607Z
UID:YV7Q5w
DTSTART;TZID=Europe/London:20260503T190000
DTEND;TZID=Europe/London:20260503T204500
CLASS:PUBLIC
CREATED:20260402T110806
DESCRIPTION: Calling all crybabies! This weepy programme travels across neo
 n karaoke rooms and flooded cityscapes to trace different textures of grie
 f and catharsis. Moving between film and live performance\, shared tears c
 reate a playful\, intimate space where sadness\, humour\, and vulnerabilit
 y coexist. \n\n This event will open with a live sound performance by Yuti
 an Hu (YUNA阿尘) and conclude with a stand-up comedy set by Zhou Ning. \
 n\n Curated by Xinyu XuXX (as part of Shuǐ Shào 水哨) \n\n One Thousan
 d Reasons to Cry\nSet in the neon intimacy of a karaoke room\, the film fo
 llows a man whose attempts at an ordinary singing session unravel into fra
 ctured loops.\ndir. Jiawei Zheng | China\, Denmark | 2025 | 9 min \n\n Int
 o the Emerald Sea\nSuzu returns home to a quiet seaside town in Japan\, wh
 ere their grandmother has reincarnated into a sea turtle.\ndir. Asuka Lin 
 | Japan | 2024 | 20 min \n\n Sinking Latitude\nA fictional dialogue betwee
 n a human\, a puppy\, and a dinosaur fossil uncovers buried histories with
 in a flooded landscape.\ndir. Jiawei Zheng | China\, Denmark | 2024 | 20 m
 in \n\n Unremarkable Zhou\nThis musical comedy captures the artist’s bit
 tersweet and absurd year in China under COVID lockdown.\ndir. Zhou Ning | 
 China | 2022 | 14 min \n
LAST-MODIFIED:20260402T124234
LOCATION:Centre 151
ORGANIZER:mailto:boxoffice@queereast.org.uk
SUMMARY:You Watched Me Cry and You Left
URL;VALUE=URI:https://ti.to/queereast/you-watched-me-cry-and-you-left
URL;VALUE=URI:https://ti.to/queereast/you-watched-me-cry-and-you-left
END:VEVENT
END:VCALENDAR
