BEGIN:VCALENDAR
VERSION:2.0
PRODID:icalendar-ruby
CALSCALE:GREGORIAN
BEGIN:VTIMEZONE
TZID:Europe/London
BEGIN:DAYLIGHT
DTSTART:20260329T020000
TZOFFSETFROM:+0000
TZOFFSETTO:+0100
RRULE:FREQ=YEARLY;BYDAY=-1SU;BYMONTH=3
TZNAME:BST
END:DAYLIGHT
BEGIN:STANDARD
DTSTART:20261025T010000
TZOFFSETFROM:+0100
TZOFFSETTO:+0000
RRULE:FREQ=YEARLY;BYDAY=-1SU;BYMONTH=10
TZNAME:GMT
END:STANDARD
END:VTIMEZONE
BEGIN:VEVENT
DTSTAMP:20260421T171348Z
UID:B3iy3A
DTSTART;TZID=Europe/London:20260503T133000
DTEND;TZID=Europe/London:20260503T153000
CLASS:PUBLIC
CREATED:20260402T155107
DESCRIPTION: In contemporary East Asian contexts\, romantic imagery and scr
 ipted love stories often sit alongside social pressures around marriage an
 d reproduction. For many women\, romance and marriage can feel closely tie
 d to broader familial\, economic\, and demographic expectations rather tha
 n personal choice. This begs the question: what happens when closeness is 
 shaped by social expectation\, and intimacy is measured through reproducti
 on? What becomes of those who step outside these demands? This programme e
 merges from that tension\, reimagining marriage as a site of refusal\, reb
 ellion\, and transformation. \n\n Curated by Sun Kim &amp\; Vivi Zhu \n\n 
 My Heart\, (On)Unlock\nTwo women bring a Chinese Otome game’s romantic s
 cript into the real world\, where it begins to unravel.\ndir. Vivi Zhu | C
 hina | 2025 | 16 min \n\n The Reproducing Garden\nArtists create a garden\
 , rather than a conventional home\, as a space of belonging for queer peop
 le in Japan.\ndir. Marina Lisa Komiya\, Chihiro Suzuki| Japan | 2021 | 60 
 min \n\n Will You Marry Me?\nA woman publicly searches for a Taiwanese hus
 band\, exposing how marriage becomes a condition for belonging.\ndir. S Ga
 o | China | 2025 | 15 min \n\n Virgin Road\nA creature halfway between hum
 an and monster splits its body in half and marries itself.\ndir. Hansol Ry
 u| South Korea | 2021 | 10 min \n\n --- \n\n This is a pay-what-you-can ev
 ent between £3.50 and £10.50. We suggest £7 as a general admission\, bu
 t feel free to pay less (or more!) based on your circumstances. \n
LAST-MODIFIED:20260402T181128
LOCATION:Museum of the Home
ORGANIZER:mailto:boxoffice@queereast.org.uk
SUMMARY:Let's Get Married!
URL;VALUE=URI:https://ti.to/queereast/lets-get-married
URL;VALUE=URI:https://ti.to/queereast/lets-get-married
END:VEVENT
END:VCALENDAR
