BEGIN:VCALENDAR
VERSION:2.0
PRODID:icalendar-ruby
CALSCALE:GREGORIAN
BEGIN:VTIMEZONE
TZID:Europe/Zurich
BEGIN:DAYLIGHT
DTSTART:20260329T030000
TZOFFSETFROM:+0100
TZOFFSETTO:+0200
RRULE:FREQ=YEARLY;BYDAY=-1SU;BYMONTH=3
TZNAME:CEST
END:DAYLIGHT
BEGIN:STANDARD
DTSTART:20261025T020000
TZOFFSETFROM:+0200
TZOFFSETTO:+0100
RRULE:FREQ=YEARLY;BYDAY=-1SU;BYMONTH=10
TZNAME:CET
END:STANDARD
END:VTIMEZONE
BEGIN:VEVENT
DTSTAMP:20260421T030548Z
UID:d9uZvQ
DTSTART;TZID=Europe/Zurich:20261005T090000
DTEND;TZID=Europe/Zurich:20261007T170000
CLASS:PUBLIC
CREATED:20260315T234133
DESCRIPTION: The QGIS User Conference is an annual event that brings togeth
 er users and developers of the QGIS open-source geographic information sys
 tem (GIS). The conference offers an opportunity to discover the latest dev
 elopments in QGIS\, share real-world experiences\, and network with the gl
 obal QGIS community across administrations\, industry\, academia\, and bey
 ond. \n
LAST-MODIFIED:20260420T231326
LOCATION:Laax\, Switzerland
ORGANIZER:mailto:uc-2026@qgis.org
SUMMARY:QGIS User Conference 2026
URL;VALUE=URI:https://ti.to/qgis/uc-2026
URL;VALUE=URI:https://ti.to/qgis/uc-2026
END:VEVENT
END:VCALENDAR
