BEGIN:VCALENDAR
VERSION:2.0
PRODID:icalendar-ruby
CALSCALE:GREGORIAN
BEGIN:VTIMEZONE
TZID:America/New_York
BEGIN:DAYLIGHT
DTSTART:20220313T030000
TZOFFSETFROM:-0500
TZOFFSETTO:-0400
RRULE:FREQ=YEARLY;BYDAY=2SU;BYMONTH=3
TZNAME:EDT
END:DAYLIGHT
BEGIN:STANDARD
DTSTART:20221106T010000
TZOFFSETFROM:-0400
TZOFFSETTO:-0500
RRULE:FREQ=YEARLY;BYDAY=1SU;BYMONTH=11
TZNAME:EST
END:STANDARD
END:VTIMEZONE
BEGIN:VEVENT
DTSTAMP:20260420T033113Z
UID:Aq4d8A
DTSTART;VALUE=DATE:20220513
DTEND;VALUE=DATE:20220516
CLASS:PUBLIC
CREATED:20211217T171956
DESCRIPTION: As a Christian parent\, when your child comes out as LGBTQ\, y
 ou face unique challenges. Where do you find support if your church won’
 t talk about it\, your faith community rejects your child\, and your own b
 eliefs are now in question? The exponential growth of the parent presence 
 at the annual Q Christian Conference speaks to the need that parents feel 
 for support\, resources\, education\, and a chance to share their stories 
 with other parents in similar situations. No matter what questions you hav
 e or where you are on this journey\, you will be welcome here! \n
LAST-MODIFIED:20250115T160900
LOCATION:Towne View Baptist Church 
ORGANIZER:mailto:office@qchristian.org
SUMMARY:2022 Parent's Summit
URL;VALUE=URI:https://ti.to/qchristianorg/2022parentssummit
URL;VALUE=URI:https://ti.to/qchristianorg/2022parentssummit
END:VEVENT
END:VCALENDAR
