BEGIN:VCALENDAR
VERSION:2.0
PRODID:icalendar-ruby
CALSCALE:GREGORIAN
BEGIN:VEVENT
DTSTAMP:20260424T171550Z
UID:oqQcKg
DTSTART;VALUE=DATE:20180822
DTEND;VALUE=DATE:20180823
CLASS:PUBLIC
CREATED:20180814T155101
DESCRIPTION: ¡Hola a todos! \n\n Anunciamos un nuevo Meetup\, donde veremo
 s las siguientes charlas: \n\n \n Introducción a serverless en AWS con py
 thon \n \n\n Se desarrollará una pequeña aplicación serverless con algu
 nas herramientas que tenemos a disposición. \n\n \n Visualización de dat
 os geocodificados con Python y Google Maps \n \n\n Explicar cómo podemos 
 desarrollar una aplicación para geocodificar y georeferenciar datos de di
 ferentes ubicaciones en un mapa utilizando como motor de bases de datos SQ
 Lite\, lenguaje de programación Python versión &gt\;= 3.0\, y la integra
 ción con la API actual de Google Maps para la visualización. \n\n AGENDA
 : \n\n 6:50 PM - 7:00 PM - Ingreso \n\n 7:00 PM - 7:40 PM - Introducción 
 a serverless en AWS con Python (Julián Cortés) \n\n 7:40 PM - 7:50 PM - 
 Python Bogotá ¿En qué vamos? \n\n 7:50 PM - 8:30 PM - Visualización de
  datos geocodificados con Python y Google Maps (Alfonso Neil Jiménez Casa
 llas) \n\n 8:30 PM - 9:00 PM - Networking \n\n SPEAKERS: \n\n Julián Cort
 és\nBackend developer en Comparamejor \n\n Alfonso Neil Jiménez Casallas
 \nIngeniero de sistemas (Pontificia Universidad Javeriana)\, con experienc
 ia en desarrollo de software de aplicaciones Web y móviles. \n\n SPONSORS
 : \n\n https://www.bizagi.com/es \n
LAST-MODIFIED:20231212T102857
LOCATION:Bogotá\, Colombia
ORGANIZER:mailto:noreply-calendar@tito.io
SUMMARY:Serverless en AWS & Visualización de datos geocodificados
URL;VALUE=URI:https://ti.to/pythonbogota/serverless-en-aws-visualizacion-de
 -datos-geocodificados
URL;VALUE=URI:https://ti.to/pythonbogota/serverless-en-aws-visualizacion-de
 -datos-geocodificados
END:VEVENT
END:VCALENDAR
