BEGIN:VCALENDAR
VERSION:2.0
PRODID:icalendar-ruby
CALSCALE:GREGORIAN
BEGIN:VEVENT
DTSTAMP:20260425T115650Z
UID:bliQ2w
DTSTART;VALUE=DATE:20210731
DTEND;VALUE=DATE:20210801
CLASS:PUBLIC
CREATED:20210606T173543
DESCRIPTION: PyOhio is the free annual Python community conference based in
  Columbus\, OH and online for 2021! \n\n PyOhio is on Discord \n\n You wil
 l be able to join our Discord server by linking your account after you hav
 e registered for the conference. If you already have a Discord account\, m
 ake sure to register for PyOhio using the same email address so we can ver
 ify your registration. Once registered\, proceed to https://chat.pyohio.or
 g/ to get connected to the server. \n\n T-Shirt Fundraiser \n\n T-shirt sa
 les are open now through Aug 1. Shirts will ship directly to you a couple 
 weeks after the event. Proceeds from this year's t-shirt fundraiser will g
 o to support speakers from underrepresented backgrounds attending future P
 yOhio events. For more details and to order shirts visit: https://www.cust
 omink.com/fundraising/pyohio-2021 \n
LAST-MODIFIED:20250521T152957
LOCATION:Online
ORGANIZER:mailto:info@pyohio.org
SUMMARY:PyOhio 2021
URL;VALUE=URI:https://ti.to/pyohio/pyohio-2021
URL;VALUE=URI:https://ti.to/pyohio/pyohio-2021
END:VEVENT
END:VCALENDAR
