BEGIN:VCALENDAR
VERSION:2.0
PRODID:icalendar-ruby
CALSCALE:GREGORIAN
BEGIN:VEVENT
DTSTAMP:20260419T194327Z
UID:e1sQSw
DTSTART;VALUE=DATE:20221126
DTEND;VALUE=DATE:20221128
CLASS:PUBLIC
CREATED:20220820T133250
DESCRIPTION: Pyjamas Conf is back - This year the theme is ✨star gazing 
 ✨\n\nSit back\, relax\, lay down and join Pyjamas Conf at your rooftop\,
  garden\, terrace or event at a campsite. Our conference is online and run
 s for 24 hours. No matter where you are\, you can join us. When you are ti
 red in the evening\, just look up at the sky and we are grazing upon the s
 ame sky! \n\n See more at our website https://pyjamas.live \n\n Pyjamas Co
 nf 2022 is FREE to attend but we encourage a small donation if you want to
  support Pyjamas Conf. Profit will go to the Python Software Foundation \n
 \n Want to volunteer? Please fill in this form. \n
LAST-MODIFIED:20221014T082229
LOCATION:Online
ORGANIZER:mailto:contact@pyjamas.live
SUMMARY:Pyjamas Conf 2022
URL;VALUE=URI:https://ti.to/pyjamas-conf/2022
URL;VALUE=URI:https://ti.to/pyjamas-conf/2022
END:VEVENT
END:VCALENDAR
