BEGIN:VCALENDAR
VERSION:2.0
PRODID:icalendar-ruby
CALSCALE:GREGORIAN
BEGIN:VTIMEZONE
TZID:America/Los_Angeles
BEGIN:DAYLIGHT
DTSTART:20260308T030000
TZOFFSETFROM:-0800
TZOFFSETTO:-0700
RRULE:FREQ=YEARLY;BYDAY=2SU;BYMONTH=3
TZNAME:PDT
END:DAYLIGHT
BEGIN:STANDARD
DTSTART:20251102T010000
TZOFFSETFROM:-0700
TZOFFSETTO:-0800
RRULE:FREQ=YEARLY;BYDAY=1SU;BYMONTH=11
TZNAME:PST
END:STANDARD
END:VTIMEZONE
BEGIN:VEVENT
DTSTAMP:20260424T214327Z
UID:Rypi9g
DTSTART;VALUE=DATE:20251107
DTEND;VALUE=DATE:20251110
CLASS:PUBLIC
CREATED:20250714T104733
DESCRIPTION: Visit https://pydata.org/seattle2025 for more information abou
 t the conference. \n\n PyData brings together both users and developers of
  data analysis tools to share ideas and learn from each other. The goals a
 re to provide data science enthusiasts\, across various domains\, a place 
 to discuss how best to apply languages and tools to the challenges of data
  management\, processing\, analytics\, and visualization. \n\n Conference 
 Tiers *Final price includes a 5.1% processing fee \n\n Early Bird Savings:
  Get $50 off 3-Day Passes and $25 off Tutorial or Talk Passes through Sept
 ember 22. (Final prices shown below include processing fees.) Please note:
  Student tickets are already discounted to the lowest possible price and a
 re not eligible for additional Early Bird savings. \n\n | | Corporate | St
 artup | Individual | Student |\n| --- | --------- | ------- | ---------- |
  ------- |\n| 3-Day Pass | $600 | $500 | $400 | $300 |\n| Tutorial Pass | 
 $200 | $200 | $150 | $100 |\n| Talk Pass | $400 | $300 | $250 | $200 | \n\
 n Interested in sponsoring? Contact us at: admin@pydata.org \n
LAST-MODIFIED:20260126T091032
LOCATION:Bellevue College
ORGANIZER:mailto:admin@pydata.org
SUMMARY:PyData Seattle 2025
URL;VALUE=URI:https://ti.to/pydata/pydata-seattle-2025
URL;VALUE=URI:https://ti.to/pydata/pydata-seattle-2025
END:VEVENT
END:VCALENDAR
