BEGIN:VCALENDAR
VERSION:2.0
PRODID:icalendar-ruby
CALSCALE:GREGORIAN
BEGIN:VTIMEZONE
TZID:Asia/Jerusalem
BEGIN:DAYLIGHT
DTSTART:20180323T030000
TZOFFSETFROM:+0200
TZOFFSETTO:+0300
RRULE:FREQ=YEARLY;BYDAY=-1FR;BYMONTH=3
TZNAME:IDT
END:DAYLIGHT
BEGIN:STANDARD
DTSTART:20181028T010000
TZOFFSETFROM:+0300
TZOFFSETTO:+0200
RRULE:FREQ=YEARLY;BYDAY=-1SU;BYMONTH=10
TZNAME:IST
END:STANDARD
END:VTIMEZONE
BEGIN:VEVENT
DTSTAMP:20260422T181031Z
UID:5ylzHw
DTSTART;VALUE=DATE:20180604
DTEND;VALUE=DATE:20180606
CLASS:PUBLIC
CREATED:20180221T131048
DESCRIPTION: PyCon in Israel. Join us in Tel Aviv for an event about all th
 ings Python. \n\n \n June 4-5 PyCon conference talks at Wohl Center in Ram
 at Gan \n \n\n The remaining tickets are now on sale. \n\n We have a limit
 ed number of discount tickets available for individuals paying their own w
 ay (not company paid)\, please email us for the discount: tickets@pycon.or
 g.il \n
LAST-MODIFIED:20190317T163346
LOCATION:Tel Aviv\, Israel
ORGANIZER:mailto:tickets@pycon.org.il
SUMMARY:PyCon Israel 2018
URL;VALUE=URI:https://ti.to/pycon-israel/pycon-israel-2018
URL;VALUE=URI:https://ti.to/pycon-israel/pycon-israel-2018
END:VEVENT
END:VCALENDAR
