BEGIN:VCALENDAR
VERSION:2.0
PRODID:icalendar-ruby
CALSCALE:GREGORIAN
BEGIN:VTIMEZONE
TZID:America/Los_Angeles
BEGIN:DAYLIGHT
DTSTART:20260308T030000
TZOFFSETFROM:-0800
TZOFFSETTO:-0700
RRULE:FREQ=YEARLY;BYDAY=2SU;BYMONTH=3
TZNAME:PDT
END:DAYLIGHT
BEGIN:STANDARD
DTSTART:20261101T010000
TZOFFSETFROM:-0700
TZOFFSETTO:-0800
RRULE:FREQ=YEARLY;BYDAY=1SU;BYMONTH=11
TZNAME:PST
END:STANDARD
END:VTIMEZONE
BEGIN:VEVENT
DTSTAMP:20260424T211741Z
UID:2Gjqbg
DTSTART;TZID=America/Los_Angeles:20261024T090000
DTEND;TZID=America/Los_Angeles:20261024T170000
CLASS:PUBLIC
CREATED:20260415T210623
DESCRIPTION: PyBeach is a general Python conference located in the Los Ange
 les\narea. It is a welcoming\, volunteer-run\, community-driven event with
  the\nmission to educate and connect its attendees to one another\, and pr
 omote\nPython within the local technology community. The conference is mad
 e\npossible by the fiscal sponsorship of the Python Software Foundation. \
 n\n PyBeach 2026 will take place on October 24th\, at the Illusion Magic L
 ounge in Santa Monica\, California. It will be a single-track\, 1-day even
 t\, welcome to professionals\, enthusiasts\, and students alike. \n\n Are 
 the prices too much for your budget right now? Please e-mail us directly a
 t financialaid@pybeach.org to apply for a reduced-price or free ticket (no
 n-Corporate tickets only). Please note we do not have the funding to offer
  travel grants or further financial assistance to attendees at this time. 
 \n\n Please make sure you read through and agree to our Terms and Conditio
 ns\, especially our Code of Conduct and Health and Safety guidelines\, bef
 ore registering for the event. \n
LAST-MODIFIED:20260421T090257
LOCATION:Santa Monica\, California
ORGANIZER:mailto:info@pybeach.org
SUMMARY:PyBeach 2026
URL;VALUE=URI:https://ti.to/pybeach/pybeach2026
URL;VALUE=URI:https://ti.to/pybeach/pybeach2026
END:VEVENT
END:VCALENDAR
