BEGIN:VCALENDAR
VERSION:2.0
PRODID:icalendar-ruby
CALSCALE:GREGORIAN
BEGIN:VEVENT
DTSTAMP:20260425T110140Z
UID:0nd9Kg
DTSTART;VALUE=DATE:20191010
DTEND;VALUE=DATE:20191012
CLASS:PUBLIC
CREATED:20190529T135122
DESCRIPTION: Welcome on the official ticket sales page! \n\n API The Docs A
 msterdam is an event for tech writers\, API developers\, product owners an
 d developer evangelists who embrace documentation as a crucial aspect of a
  great developer experience. The conference is a great opportunity to shar
 e and discuss the latest best practices\, strategies and new trends releva
 nt to API documentation and developer portals! \n
LAST-MODIFIED:20191001T093534
LOCATION:Amsterdam\, The Netherlands
ORGANIZER:mailto:info@apithedocs.org
SUMMARY:API The Docs Amsterdam 2019
URL;VALUE=URI:https://ti.to/pronovix/api-the-docs-amsterdam-2019
URL;VALUE=URI:https://ti.to/pronovix/api-the-docs-amsterdam-2019
END:VEVENT
END:VCALENDAR
