BEGIN:VCALENDAR
VERSION:2.0
PRODID:icalendar-ruby
CALSCALE:GREGORIAN
BEGIN:VEVENT
DTSTAMP:20260423T181725Z
UID:RssouQ
DTSTART:20250618T170000
DTEND:20250618T210000
CLASS:PUBLIC
CREATED:20250402T214434
DESCRIPTION: Propulsé par le Printemps numérique\, en collaboration avec 
 CHAFRIC\, la Chambre de commerce Québec Afrique\, ATTANI et SR\, AFRO TEC
 H est un événement dédié à la mise en lumière des jeunes entrepreneu
 rs afro-descendants dans la tech canadienne. L’événement vise à conne
 cter les talents\, offrir de la visibilité aux startups innovantes\, et f
 avoriser les opportunités d’investissement et d’accompagnement. \n
LAST-MODIFIED:20251211T135148
LOCATION:CRIM - Centre de Recherche Informatique de Montréal
ORGANIZER:mailto:info@afrotechcanada.com
SUMMARY:Afro Tech
URL;VALUE=URI:https://ti.to/printemps-numerique/afro-tech-01
URL;VALUE=URI:https://ti.to/printemps-numerique/afro-tech-01
END:VEVENT
END:VCALENDAR
