BEGIN:VCALENDAR
VERSION:2.0
PRODID:icalendar-ruby
CALSCALE:GREGORIAN
BEGIN:VTIMEZONE
TZID:Europe/Berlin
BEGIN:DAYLIGHT
DTSTART:20260329T030000
TZOFFSETFROM:+0100
TZOFFSETTO:+0200
RRULE:FREQ=YEARLY;BYDAY=-1SU;BYMONTH=3
TZNAME:CEST
END:DAYLIGHT
BEGIN:STANDARD
DTSTART:20261025T020000
TZOFFSETFROM:+0200
TZOFFSETTO:+0100
RRULE:FREQ=YEARLY;BYDAY=-1SU;BYMONTH=10
TZNAME:CET
END:STANDARD
END:VTIMEZONE
BEGIN:VEVENT
DTSTAMP:20260419T123504Z
UID:eNktzA
DTSTART;TZID=Europe/Berlin:20260925T090000
DTEND;TZID=Europe/Berlin:20260926T180000
CLASS:PUBLIC
CREATED:20260305T115300
DESCRIPTION: Purchase your ticket to join the conference here. Please keep 
 in mind\, that PRINTED Hub is organized in mainly german. We do have inter
 national speakers and workshops though. We always have someone near to tra
 nslate if needed. \n\n Sichere dir hier dein Ticket für die Konferenz. Bi
 tte denk daran\, dass die PRINTED Hub hauptsächlich auf Deutsch stattfind
 et. Wir haben aber auch internationale Speaker und Workshops dabei. Falls 
 nötig\, ist auch immer jemand in der Nähe\, der beim Übersetzen helfen 
 kann. \n
LAST-MODIFIED:20260317T090914
LOCATION:Rüdesheim am Rhein\, near Frankfurt\, Germany
ORGANIZER:mailto:office@printed-events.com
SUMMARY:PRINTED hub 2026
URL;VALUE=URI:https://ti.to/printed-europe/printed-hub-2026
URL;VALUE=URI:https://ti.to/printed-europe/printed-hub-2026
END:VEVENT
END:VCALENDAR
