BEGIN:VCALENDAR
VERSION:2.0
PRODID:icalendar-ruby
CALSCALE:GREGORIAN
BEGIN:VEVENT
DTSTAMP:20260424T145352Z
UID:xUdwsg
DTSTART;VALUE=DATE:20140424
DTEND;VALUE=DATE:20140425
CLASS:PUBLIC
CREATED:20140409T110656
DESCRIPTION: Join a community of data-driven Growth Hackers and innovative 
 entrepreneurs who will share the fundamentals of rapid growth hacking and 
 digital marketing best practices. \n\n The next  Growth Hackers Dublin  is
  on July 10th 2014. Register Today!  \n\n The event is proudly organised b
 y:\nPredict Insight &amp\;  Piehole.tv \n
LAST-MODIFIED:20231212T102856
LOCATION:The Sugar Club
ORGANIZER:mailto:jason.roe@predict.ie
SUMMARY:Growth Hackers Dublin #2 - April 24th 2014
URL;VALUE=URI:https://ti.to/predict/growth-hackers-dub-2
URL;VALUE=URI:https://ti.to/predict/growth-hackers-dub-2
END:VEVENT
END:VCALENDAR
