BEGIN:VCALENDAR
VERSION:2.0
PRODID:icalendar-ruby
CALSCALE:GREGORIAN
BEGIN:VEVENT
DTSTAMP:20260419T213110Z
UID:boiP3w
DTSTART;VALUE=DATE:20230414
DTEND;VALUE=DATE:20230416
CLASS:PUBLIC
CREATED:20221205T133956
DESCRIPTION: PARTICIPATORY TALKS PROGRAMME \n\n 14-15 April 2023 \n\n HUSET
 -KBH\, Rådhusstræde 13\, 1466 CPH K \n\n LINE-UP: Kexin Hao (NL/CN)\, St
 udio Safar (LB/CA)\, Trojan Horse (FI)\, Wang &amp\; Söderström (SE/DK)\
 , FISK (US/IR) &amp\; Oaza Kolektiv (HR) \n\n Communal food experience by 
 FOODOIR (separate ticket) \n\n Festival Warm-up Thursday 13 April from 17:
 00-21:00. Hosted by Design denmark and EGGS Design. FREE EVENT with regist
 ration (separate ticket) \n\n &gt\;&gt\;&gt\; Read all about it here: post
 .design/tangle &lt\;&lt\;&lt\; \n
LAST-MODIFIED:20251002T120833
LOCATION:Copenhagen\, Denmark
ORGANIZER:mailto:info@postdesignfestival.org
SUMMARY:Post Design Tangle\, chapter 3: COMMUNITY
URL;VALUE=URI:https://ti.to/postdesignfestival/tangle-chapter-3-community
URL;VALUE=URI:https://ti.to/postdesignfestival/tangle-chapter-3-community
END:VEVENT
END:VCALENDAR
