BEGIN:VCALENDAR
VERSION:2.0
PRODID:icalendar-ruby
CALSCALE:GREGORIAN
BEGIN:VEVENT
DTSTAMP:20260419T211632Z
UID:3IV5Qg
DTSTART;VALUE=DATE:20220923
DTEND;VALUE=DATE:20220925
CLASS:PUBLIC
CREATED:20220823T091639
DESCRIPTION: **Post Design Tangle\, Chapter 2: **SELF \n\n SYMPOSIUM\n23–
 24 September 2022\,\nGrafill\, Møllergata 39\, 0179 Oslo\,\nLINE-UP: Laur
 enz Brunner\, Noam Youngrak Son\, Sophie Douala\, Tenthaus\, and Nushin Ya
 zdani \n\n WORKSHOP w/ Noam Youngrak Son\,\n23–24 September 2022\,\nPodi
 um\, Hausmannsgate 34\, 0182 Oslo \n\n &gt\;&gt\;&gt\; Check schedule and 
 info at: post.design/self &lt\;&lt\;&lt\; \n
LAST-MODIFIED:20251002T120833
LOCATION:Oslo\, Norway
ORGANIZER:mailto:info@postdesignfestival.org
SUMMARY:Post Design Tangle\, chapter 2: SELF
URL;VALUE=URI:https://ti.to/postdesignfestival/tangle-chapter-2-self
URL;VALUE=URI:https://ti.to/postdesignfestival/tangle-chapter-2-self
END:VEVENT
END:VCALENDAR
