BEGIN:VCALENDAR
VERSION:2.0
PRODID:icalendar-ruby
CALSCALE:GREGORIAN
BEGIN:VEVENT
DTSTAMP:20260421T170350Z
UID:ljI00Q
DTSTART;VALUE=DATE:20210518
DTEND;VALUE=DATE:20210522
CLASS:PUBLIC
CREATED:20210210T114228
DESCRIPTION: This year’s event will host debates on the state of the sect
 or featuring C-Level leaders from the industry\, explore the emerging tech
 nologies that are revolutionising the sector and help guide your continued
  journey towards automation. \n
LAST-MODIFIED:20221018T134600
LOCATION:Virtual Event
ORGANIZER:mailto:events@porttechnology.org
SUMMARY:Container Terminal Automation Conference 2021
URL;VALUE=URI:https://ti.to/port-technology-international/container-termina
 l-automation-conference-2021
URL;VALUE=URI:https://ti.to/port-technology-international/container-termina
 l-automation-conference-2021
END:VEVENT
END:VCALENDAR
