BEGIN:VCALENDAR
VERSION:2.0
PRODID:icalendar-ruby
CALSCALE:GREGORIAN
BEGIN:VTIMEZONE
TZID:Europe/Lisbon
BEGIN:DAYLIGHT
DTSTART:20230326T020000
TZOFFSETFROM:+0000
TZOFFSETTO:+0100
RRULE:FREQ=YEARLY;BYDAY=-1SU;BYMONTH=3
TZNAME:WEST
END:DAYLIGHT
BEGIN:STANDARD
DTSTART:20231029T010000
TZOFFSETFROM:+0100
TZOFFSETTO:+0000
RRULE:FREQ=YEARLY;BYDAY=-1SU;BYMONTH=10
TZNAME:WET
END:STANDARD
END:VTIMEZONE
BEGIN:VEVENT
DTSTAMP:20260425T142212Z
UID:Xoe39g
DTSTART;VALUE=DATE:20230919
DTEND;VALUE=DATE:20230921
CLASS:PUBLIC
CREATED:20230525T144917
LAST-MODIFIED:20230919T105618
LOCATION:Lisbon\, Portugal
ORGANIZER:mailto:events@parity.io
SUMMARY:sub0 Europe 2023
URL;VALUE=URI:https://ti.to/polkadot/sub0_lisbon_2023
URL;VALUE=URI:https://ti.to/polkadot/sub0_lisbon_2023
END:VEVENT
END:VCALENDAR
