BEGIN:VCALENDAR
VERSION:2.0
PRODID:icalendar-ruby
CALSCALE:GREGORIAN
BEGIN:VEVENT
DTSTAMP:20260421T214939Z
UID:dwd4gg
DTSTART;VALUE=DATE:20220430
DTEND;VALUE=DATE:20220501
CLASS:PUBLIC
CREATED:20211007T084959
DESCRIPTION: POLISH GRAPHIC DESIGN TALKS #09 \nKonferencja wersja: live &am
 p\; online\, low-cost\, hardcore talks \, post pandemic event \nwww.polish
 graphicdesign.com/talks \n\n \n\n Dziewiąta edycja konferencji o praktycz
 nej stronie pracy projektantów w Polsce. \nPierwszy raz w Katowicach. Pie
 rwszy raz na Akademii Sztuk Pięknych. \n\n \n\n CO? \nTwarde fakty\, trud
 ne pytania\, niepopularne opinie\, przemilczane problemy oraz kulisy proje
 któw. Wiedza praktyczna\, której nie znajdziesz w internecie. Rzeczy\, o
  których nie mówi się publicznie.    \n\n \n\n JAK? \nKonferencja to ze
 staw wykładów połączonych z rozmowami. Każdy z prelegentów odpowie n
 a wybrany zestaw pytań\, prezentując jako przykłady konkretne projekty 
 i prawdziwe sytuacje z życia zawodowego.   \n\n \n\n KTO? \nOsoby:    \n\
 n Redkroft redkroft.com \nBlank Studio studioblank.pl \nSymbol Studio symb
 olstudio.pl \nPatryk Hardziej hardziej.com \nPaulina Urbańska behance.net
 /paulinaurbanska \nBeata Śliwińska Barrakuz instagram.com/barrakuz     \
 n\n \n\n ZA ILE? \n115 zł do 01.04.2022 \n155 zł do 30.04.2022 \nIlość
  biletów jest bardzo ograniczona i może zostać wyczerpana przed podanym
  terminem.    \n\n \n\n KIEDY? \n30.04.2022 (sobota) \nstart: 10:00 \nkoni
 ec: 19:00   \n\n \n\n GDZIE? \nAkademia Sztuk Pięknych w Katowicach \nRac
 iborska 50\, Katowice     \n\n \n\n Więcej informacji: \nwww.polishgraphi
 cdesign.com/talks \n
LAST-MODIFIED:20230207T002745
LOCATION:Akademia Sztuk Pięknych w Katowicach\, Raciborska 50\, Katowice
ORGANIZER:mailto:talks@polishgraphicdesign.pl
SUMMARY:Polish Graphic Design Talks #09
URL;VALUE=URI:https://ti.to/polish-graphic-design/polish-graphic-design-tal
 ks-09
URL;VALUE=URI:https://ti.to/polish-graphic-design/polish-graphic-design-tal
 ks-09
END:VEVENT
END:VCALENDAR
