BEGIN:VCALENDAR
VERSION:2.0
PRODID:icalendar-ruby
CALSCALE:GREGORIAN
BEGIN:VEVENT
DTSTAMP:20260421T214955Z
UID:El9AJQ
DTSTART;VALUE=DATE:20211002
DTEND;VALUE=DATE:20211003
CLASS:PUBLIC
CREATED:20200107T220751
DESCRIPTION: POLISH GRAPHIC DESIGN TALKS #04 \nKonferencja wersja: live &am
 p\; online\, low-cost\, hardcore talks \, post pandemic event \nwww.polish
 graphicdesign.com/talks \n\n \n\n Czwarta edycja konferencji o praktycznej
  stronie pracy projektantów w Polsce. \nPierwszy raz w Poznaniu!. \n\n \n
 \n CO? \nTematem wydarzenia będą pieniądze\, kosztorysy\, briefy\, umow
 y\, przetargi\, klienci \noraz różnorodne case studies.  \n\n \n\n JAK? 
 \nNasza konferencja to twarde fakty\, trudne pytania\, niepopularne opinie
 \, przemilczane problemy\, prawdziwe ceny\, triki na klientów\, nieoczywi
 ste modele biznesowe\, dziwne briefy\, niekończące się poprawki i wiele
  wiele więcej trudu\, znoju i radości!   \n\n \n\n KTO? \nWystąpią: \n
 Krzysztof Ignasiak i Marcin Matuszak (Bękarty) www.bekarty.pl \nMaciej Ma
 ch i Michał Mierzwa (Uniforma) www.uniforma.pl \nBartosz Białek (Netguru
 ) www.netguru.com \nMartyna Wedzicka-Obuchowicz www.wedzicka.com\nKatarzyn
 a Augustyniak www.behance.net/katarzynow \nOla Płocińska www.olaplocinsk
 a.com     \n\n \n\n ZA ILE? \nCeny biletów: \n95 zł (bilet grupowy dla 5
  osób) \n135 zł (bilet normalny)   \n\n UWAGA! \nIlość biletów  jest 
 ograniczona i może być wyczerpana przed podanym terminem. \n\n \n\n KIED
 Y? \n02.10.2021 (sobota) \nstart 10:00 \n\n \n\n GDZIE? \nAula Artis\, Kut
 rzeby 10\, Poznań   \n\n \n\n PANDEMIA? \nWydarzenie realizowane zgodnie 
 z urzędowymi zaleceniami sanitarnymi   \n\n \n obecność w maskach  \n o
 dstępy między uczestnikami  \n publiczność 75% objętości sali  \n wi
 etrzenie pomieszczeń wydarzenia  \n możliwość dostępu do zestawu nagr
 ań online  \n \n\n \n\n UWAGA! \nZakup biletu i uczestnictwo w wydarzeniu
  jest równoznaczne z akceptacją poniższych warunków: \n\n \n Każdy uc
 zestnik zobowiązuje się do samodzielnego wyposażenia się w konieczne 
 środki ochrony osobistej takie jak maseczkę zasłaniającą nos i usta\,
  której noszenie jest obowiązkowe w przestrzeniach wydarzeniach.  \n W u
 zasadnionych przypadkach dane osobowe uczestnika wydarzenia (imię\, nazwi
 sko\, adres\, numer telefonu) zostaną udostępnienie Głównemu Inspektor
 atowi Sanitarnemu oraz służbom porządkowym.  \n Uczestnikiem wydarzenia
  może być jedynie osoba\, która wedle swojej najlepszej wiedzy nie jest
  osobą zakażoną lub nie przebywa na kwarantannie i pod nadzorem epidemi
 ologicznym.  \n \n\n \n\n Partnerzy: \nThe Story www.thestory.pl \nBękart
 y www.bekarty.pl \nRocket Jobs www.rocketjobs.pl \n\n \n\n Więcej informa
 cji: \nhttp://www.polishgraphicdesign.com   \n\n \n
LAST-MODIFIED:20230207T002745
LOCATION:Aula Artis\, ul. gen. Tadeusza Kutrzeby 10\, Poznań
ORGANIZER:mailto:talks@polishgraphicdesign.pl
SUMMARY:Polish Graphic Design Talks #04
URL;VALUE=URI:https://ti.to/polish-graphic-design/polish-graphic-design-tal
 ks-04
URL;VALUE=URI:https://ti.to/polish-graphic-design/polish-graphic-design-tal
 ks-04
END:VEVENT
END:VCALENDAR
