BEGIN:VCALENDAR
VERSION:2.0
PRODID:icalendar-ruby
CALSCALE:GREGORIAN
BEGIN:VTIMEZONE
TZID:Europe/London
BEGIN:DAYLIGHT
DTSTART:20260329T020000
TZOFFSETFROM:+0000
TZOFFSETTO:+0100
RRULE:FREQ=YEARLY;BYDAY=-1SU;BYMONTH=3
TZNAME:BST
END:DAYLIGHT
BEGIN:STANDARD
DTSTART:20251026T010000
TZOFFSETFROM:+0100
TZOFFSETTO:+0000
RRULE:FREQ=YEARLY;BYDAY=-1SU;BYMONTH=10
TZNAME:GMT
END:STANDARD
END:VTIMEZONE
BEGIN:VEVENT
DTSTAMP:20260423T153107Z
UID:hCbRAA
DTSTART;TZID=Europe/London:20251114T090000
DTEND;TZID=Europe/London:20251114T170000
CLASS:PUBLIC
CREATED:20250628T181558
DESCRIPTION: Course content: \n\n \n The Nature of Anxiety \n Basic &amp\; 
 Advanced communication techniques \n Anxiety Management in Practice \n Lea
 rning Disabilities &amp\; Autistic Spectrum Disorders \n Paediatric Deliri
 um &amp\; Emergence Delirium \n Hypnosis &amp\; Hypnotherapy for children 
 \n Experimental Hypnosis session (optional) \n \n\n   \n\n \n\n Timetable:
 \n0830: Welcome and registration.\n0900 - 17:00: POEMS course \n
LAST-MODIFIED:20251112T160004
LOCATION:Royal College of Anaesthetists
ORGANIZER:mailto:info@poemsforchildren.org.uk
SUMMARY:London - 14 Nov 2025
URL;VALUE=URI:https://ti.to/poems-for-children-charity/london-14-nov-2025
URL;VALUE=URI:https://ti.to/poems-for-children-charity/london-14-nov-2025
END:VEVENT
END:VCALENDAR
