BEGIN:VCALENDAR
VERSION:2.0
PRODID:icalendar-ruby
CALSCALE:GREGORIAN
BEGIN:VTIMEZONE
TZID:Europe/Dublin
BEGIN:DAYLIGHT
DTSTART:20241027T010000
TZOFFSETFROM:+0100
TZOFFSETTO:+0000
RRULE:FREQ=YEARLY;BYDAY=-1SU;BYMONTH=10
TZNAME:GMT
END:DAYLIGHT
BEGIN:STANDARD
DTSTART:20240331T020000
TZOFFSETFROM:+0000
TZOFFSETTO:+0100
RRULE:FREQ=YEARLY;BYDAY=-1SU;BYMONTH=3
TZNAME:IST
END:STANDARD
END:VTIMEZONE
BEGIN:VEVENT
DTSTAMP:20260423T145307Z
UID:EGwD0Q
DTSTART;TZID=Europe/Dublin:20240912T110000
DTEND;TZID=Europe/Dublin:20240912T130000
CLASS:PUBLIC
CREATED:20240717T133158
DESCRIPTION: The following application clinic will provide all potential ap
 plicants with the opportunity to ask any questions relative to submitting 
 an application to the DAF Growing Social Enterprise Fund. Closing date for
  all applications is Friday 20th September @5pm \n
LAST-MODIFIED:20260415T153303
LOCATION:Microsoft Teams
ORGANIZER:MAILTO:
SUMMARY:DAF Growing Social Enterprise Fund Application Clinic - 12th Septem
 ber
URL;VALUE=URI:https://ti.to/pobal/daf-growing-social-enterprise-fund-applic
 ation-clinic-12th-september
URL;VALUE=URI:https://ti.to/pobal/daf-growing-social-enterprise-fund-applic
 ation-clinic-12th-september
END:VEVENT
END:VCALENDAR
