BEGIN:VCALENDAR
VERSION:2.0
PRODID:icalendar-ruby
CALSCALE:GREGORIAN
BEGIN:VTIMEZONE
TZID:Europe/Dublin
BEGIN:DAYLIGHT
DTSTART:20261025T010000
TZOFFSETFROM:+0100
TZOFFSETTO:+0000
RRULE:FREQ=YEARLY;BYDAY=-1SU;BYMONTH=10
TZNAME:GMT
END:DAYLIGHT
BEGIN:STANDARD
DTSTART:20260329T020000
TZOFFSETFROM:+0000
TZOFFSETTO:+0100
RRULE:FREQ=YEARLY;BYDAY=-1SU;BYMONTH=3
TZNAME:IST
END:STANDARD
END:VTIMEZONE
BEGIN:VEVENT
DTSTAMP:20260423T173505Z
UID:2KmnaQ
DTSTART;TZID=Europe/Dublin:20260505T190000
DTEND;TZID=Europe/Dublin:20260505T210000
CLASS:PUBLIC
CREATED:20260421T154842
DESCRIPTION: This event will provide key information on how to access and c
 omplete your application form for the Community Centres Investment Fund 20
 26: Refurbishment Grant. \n\n It is important to note that this is a repea
 t event of the 14th of April. If you attended the event on the 14th\, you 
 do not need to attend this event. The same information is being presented.
  \n\n There will be an opportunity to ask questions.  \n\n   \n
LAST-MODIFIED:20260423T110142
LOCATION:Microsoft Teams
ORGANIZER:mailto:ccif@pobal.ie
SUMMARY:Community Centres Investment Fund 2026: Application Information eve
 nt 5th May 2026
URL;VALUE=URI:https://ti.to/pobal/community-centres-investment-fund-2026-co
 py-2
URL;VALUE=URI:https://ti.to/pobal/community-centres-investment-fund-2026-co
 py-2
END:VEVENT
END:VCALENDAR
