BEGIN:VCALENDAR
VERSION:2.0
PRODID:icalendar-ruby
CALSCALE:GREGORIAN
BEGIN:VTIMEZONE
TZID:Europe/Dublin
BEGIN:DAYLIGHT
DTSTART:20261025T010000
TZOFFSETFROM:+0100
TZOFFSETTO:+0000
RRULE:FREQ=YEARLY;BYDAY=-1SU;BYMONTH=10
TZNAME:GMT
END:DAYLIGHT
BEGIN:STANDARD
DTSTART:20260329T020000
TZOFFSETFROM:+0000
TZOFFSETTO:+0100
RRULE:FREQ=YEARLY;BYDAY=-1SU;BYMONTH=3
TZNAME:IST
END:STANDARD
END:VTIMEZONE
BEGIN:VEVENT
DTSTAMP:20260423T172316Z
UID:a7TppA
DTSTART;TZID=Europe/Dublin:20260429T100000
DTEND;TZID=Europe/Dublin:20260429T110000
CLASS:PUBLIC
CREATED:20260421T154212
DESCRIPTION: The purpose of this clinic is to provide a space to address an
 y questions you may have on the CCIF 2026 programme. Whether you need clar
 ification\, guidance\, our team will be available to assist you. We encour
 age everyone to take advantage of this opportunity. \n
LAST-MODIFIED:20260423T120522
LOCATION:Microsoft Teams
ORGANIZER:mailto:ccif@pobal.ie
SUMMARY:Community Centres Investment Fund 2026: Weekly check-in-Clinic 29th
  April 2026
URL;VALUE=URI:https://ti.to/pobal/community-centres-investment-fund-2024-re
 furbishment-grant-information-event-25th-june-copy-5
URL;VALUE=URI:https://ti.to/pobal/community-centres-investment-fund-2024-re
 furbishment-grant-information-event-25th-june-copy-5
END:VEVENT
END:VCALENDAR
