BEGIN:VCALENDAR
VERSION:2.0
PRODID:icalendar-ruby
CALSCALE:GREGORIAN
BEGIN:VEVENT
DTSTAMP:20260419T214107Z
UID:MNW2Iw
DTSTART:20240807T120000
DTEND:20240820T190000
CLASS:PUBLIC
CREATED:20240617T123622
DESCRIPTION: This application support clinic will provide you with the oppo
 rtunity to seek clarification and ask specific questions on your CCIF appl
 ication. \n
LAST-MODIFIED:20260415T143303
LOCATION:Zoom 
ORGANIZER:mailto:ccif@pobal.ie
SUMMARY:Community Centres Investment Fund 2024: Refurbishment Grant - Appli
 cation Support Clinic
URL;VALUE=URI:https://ti.to/pobal/community-centres-investment-fund-2024-re
 furbishment-grant-application-support-clinic
URL;VALUE=URI:https://ti.to/pobal/community-centres-investment-fund-2024-re
 furbishment-grant-application-support-clinic
END:VEVENT
END:VCALENDAR
