BEGIN:VCALENDAR
VERSION:2.0
PRODID:icalendar-ruby
CALSCALE:GREGORIAN
BEGIN:VEVENT
DTSTAMP:20260423T174631Z
UID:TMhAQg
DTSTART;VALUE=DATE:20201220
DTEND;VALUE=DATE:20201221
CLASS:PUBLIC
CREATED:20201126T185533
DESCRIPTION: With the weather for Sunday looking mixed at best we are unabl
 e to run our drive in safely. The decision has been made to bring it indoo
 rs and online. The Drive In Carol Service has just become the Stay In Caro
 l Service. Same content\, with Bishop Nick speaking\, a selection of readi
 ngs and carols provided by our joint church team\, and lashings of Christm
 as cheer. Only this time you can take part in the warmth and comfort of yo
 ur own home! Stay dry\, tune in\, take part! \n\n https://www.youtube.com/
 channel/UCwoPAfZa09_WsuVV1rxsXow/featured?view_as=subscriber \n
LAST-MODIFIED:20201218T131425
LOCATION:Milehouse Park and Ride\, Plymouth 
ORGANIZER:mailto:info@plymouthvineyard.org.uk
SUMMARY:Drive-In Carol Service
URL;VALUE=URI:https://ti.to/plymouth-vineyard-church/drive-in-carol-service
URL;VALUE=URI:https://ti.to/plymouth-vineyard-church/drive-in-carol-service
END:VEVENT
END:VCALENDAR
