BEGIN:VCALENDAR
VERSION:2.0
PRODID:icalendar-ruby
CALSCALE:GREGORIAN
BEGIN:VEVENT
DTSTAMP:20260421T104509Z
UID:8tuJGg
DTSTART:20241025T183000
DTEND:20241027T170000
CLASS:PUBLIC
CREATED:20240413T115053
DESCRIPTION: Play14 is a community of people who believe that the very best
  way for people to learn is by doing. Be it a game or an interactive exerc
 ise\, having fun and playing is essential to effective learning. Play14 - 
 London is an opportunity for people who share this belief to connect\, col
 laborate\, learn\, play and share together. \n\n In 2024 we celebrate 10 y
 ears of Play14\, come along and play! \n
LAST-MODIFIED:20241002T120542
LOCATION:London
ORGANIZER:mailto:london@play14.org
SUMMARY:Play14 London 2024
URL;VALUE=URI:https://ti.to/play14/play14-london-2024
URL;VALUE=URI:https://ti.to/play14/play14-london-2024
END:VEVENT
END:VCALENDAR
