BEGIN:VCALENDAR
VERSION:2.0
PRODID:icalendar-ruby
CALSCALE:GREGORIAN
BEGIN:VTIMEZONE
TZID:America/Los_Angeles
BEGIN:DAYLIGHT
DTSTART:20250309T030000
TZOFFSETFROM:-0800
TZOFFSETTO:-0700
RRULE:FREQ=YEARLY;BYDAY=2SU;BYMONTH=3
TZNAME:PDT
END:DAYLIGHT
BEGIN:STANDARD
DTSTART:20251102T010000
TZOFFSETFROM:-0700
TZOFFSETTO:-0800
RRULE:FREQ=YEARLY;BYDAY=1SU;BYMONTH=11
TZNAME:PST
END:STANDARD
END:VTIMEZONE
BEGIN:VEVENT
DTSTAMP:20260423T212104Z
UID:x0E1tQ
DTSTART;TZID=America/Los_Angeles:20250428T090000
DTEND;TZID=America/Los_Angeles:20250430T113000
CLASS:PUBLIC
CREATED:20240501T132519
LAST-MODIFIED:20250506T085452
LOCATION:
ORGANIZER:mailto:contact@plandonline.com
SUMMARY:CSS Layout Workshop with OddBird
URL;VALUE=URI:https://ti.to/pland/css-layout
URL;VALUE=URI:https://ti.to/pland/css-layout
END:VEVENT
END:VCALENDAR
