BEGIN:VCALENDAR
VERSION:2.0
PRODID:icalendar-ruby
CALSCALE:GREGORIAN
BEGIN:VTIMEZONE
TZID:America/Los_Angeles
BEGIN:DAYLIGHT
DTSTART:20260308T030000
TZOFFSETFROM:-0800
TZOFFSETTO:-0700
RRULE:FREQ=YEARLY;BYDAY=2SU;BYMONTH=3
TZNAME:PDT
END:DAYLIGHT
BEGIN:STANDARD
DTSTART:20261101T010000
TZOFFSETFROM:-0700
TZOFFSETTO:-0800
RRULE:FREQ=YEARLY;BYDAY=1SU;BYMONTH=11
TZNAME:PST
END:STANDARD
END:VTIMEZONE
BEGIN:VEVENT
DTSTAMP:20260425T223538Z
UID:uZD41w
DTSTART;VALUE=DATE:20260530
DTEND;VALUE=DATE:20260601
CLASS:PUBLIC
CREATED:20260401T155502
DESCRIPTION: A weekend for indie devs to learn\, share\, and connect.\nLear
 n more at pigcon.pigsquad.com! \n
LAST-MODIFIED:20260424T122712
LOCATION:Norse Hall\, Portland\, Oregon
ORGANIZER:mailto:noreply-calendar@tito.io
SUMMARY:PIGCON
URL;VALUE=URI:https://ti.to/pigsquad/pigcon
URL;VALUE=URI:https://ti.to/pigsquad/pigcon
END:VEVENT
END:VCALENDAR
