BEGIN:VCALENDAR
VERSION:2.0
PRODID:icalendar-ruby
CALSCALE:GREGORIAN
BEGIN:VEVENT
DTSTAMP:20260421T085521Z
UID:DDAsLw
DTSTART;VALUE=DATE:20130829
DTEND;VALUE=DATE:20130831
CLASS:PUBLIC
CREATED:20130809T045526
DESCRIPTION: PHP: The Undiscovered Country is a unique conference\, targeti
 ng PHP professionals\, and interested hobbyists. We're interested in prese
 nting and discussing topics around future technologies and new approaches 
 to solve problems with PHP and related technologies. \n
LAST-MODIFIED:20130814T135249
LOCATION:San Francisco\, CA\, USA
ORGANIZER:mailto:noreply-calendar@tito.io
SUMMARY:PHP: The Undiscovered Country 2013
URL;VALUE=URI:https://ti.to/phpundiscovered/2013
URL;VALUE=URI:https://ti.to/phpundiscovered/2013
END:VEVENT
END:VCALENDAR
