BEGIN:VCALENDAR
VERSION:2.0
PRODID:icalendar-ruby
CALSCALE:GREGORIAN
BEGIN:VTIMEZONE
TZID:America/Guatemala
BEGIN:STANDARD
DTSTART:20060930T230000
TZOFFSETFROM:-0500
TZOFFSETTO:-0600
TZNAME:CST
END:STANDARD
END:VTIMEZONE
BEGIN:VEVENT
DTSTAMP:20260421T122454Z
UID:PVdNYA
DTSTART;TZID=America/Guatemala:20260519T090000
DTEND;TZID=America/Guatemala:20260521T170000
CLASS:PUBLIC
CREATED:20250527T172449
LAST-MODIFIED:20260414T091246
LOCATION:Chicago\, IL
ORGANIZER:mailto:support@phparch.com
SUMMARY:PHP TEK 2026
URL;VALUE=URI:https://ti.to/phptek/phptek-2026
URL;VALUE=URI:https://ti.to/phptek/phptek-2026
END:VEVENT
END:VCALENDAR
