BEGIN:VCALENDAR
VERSION:2.0
PRODID:icalendar-ruby
CALSCALE:GREGORIAN
BEGIN:VEVENT
DTSTAMP:20260420T200327Z
UID:jmmKqQ
DTSTART;VALUE=DATE:20200101
DTEND;VALUE=DATE:20210101
CLASS:PUBLIC
CREATED:20191014T191442
DESCRIPTION: Photo Walks  are about slowing down and really looking at the 
 details of Birmingham while learning from being in a group. More a meander
  than an exercising walk\, we usually cover a mile or so mixing in a bit o
 f local history\, myths\, legends and tall stories. \n\n They've been run 
 since 2012 by myself\,  Pete Ashton \, an artist and photography teacher. 
 While not formal workshops\, I'm always on hand to offer advice and help y
 ou get the most out of the experience. \n\n All cameras and levels of expe
 rience are welcome. DSLR or smartphone\, compact or hefty\, your camera is
  absolutely fine for my walks. I've even had people come without a camera 
 for the experience of looking at the Birmingham in new ways. (The exceptio
 n is City at Night which requires a DSLR or equiv.) \n\n At least 15 walks
  will run in 2020. Dates will be announced as the year progresses. \n\n De
 tails of each walk are further down the page.  More info about Photo Schoo
 l is on the website \n
LAST-MODIFIED:20210113T215524
LOCATION:Birmingham\, UK
ORGANIZER:mailto:pete@peteashton.com
SUMMARY:Birmingham Photo Walks 2020
URL;VALUE=URI:https://ti.to/photo-school/bham-photo-walks-2020
URL;VALUE=URI:https://ti.to/photo-school/bham-photo-walks-2020
END:VEVENT
END:VCALENDAR
