BEGIN:VCALENDAR
VERSION:2.0
PRODID:icalendar-ruby
CALSCALE:GREGORIAN
BEGIN:VTIMEZONE
TZID:Europe/Dublin
BEGIN:DAYLIGHT
DTSTART:20241027T010000
TZOFFSETFROM:+0100
TZOFFSETTO:+0000
RRULE:FREQ=YEARLY;BYDAY=-1SU;BYMONTH=10
TZNAME:GMT
END:DAYLIGHT
BEGIN:STANDARD
DTSTART:20250330T020000
TZOFFSETFROM:+0000
TZOFFSETTO:+0100
RRULE:FREQ=YEARLY;BYDAY=-1SU;BYMONTH=3
TZNAME:IST
END:STANDARD
END:VTIMEZONE
BEGIN:VEVENT
DTSTAMP:20260421T170825Z
UID:oyqsxA
DTSTART;TZID=Europe/Dublin:20250222T130000
DTEND;TZID=Europe/Dublin:20250222T170000
CLASS:PUBLIC
CREATED:20250129T164927
DESCRIPTION: Join us for a dayschool where we’ll be strategising and refl
 ecting on the Palestine Solidarity movement in Ireland and where it should
  go next \n\n On Saturday\, February 22nd we’ll be hosting a wide array 
 of speakers from across the movement in the Jonathan Swift Theatre\, TCD A
 rts Block \n\n This is an ideal event for getting to grips with the histor
 y of Palestine and the struggle against apartheid and colonialism\, Irish-
 Palestinian solidarity\, Palestine organising and how you can get involved
  with movement building across Ireland. \n\n EVENTS\nFrom the River to the
  Sea: Liberation vs States and Solutions:\nRichard Boyd Barrett TD &amp\; 
 Bana Abu Zuluf\n13:00-14:30 \n\n Fighting Anti Semitism and Zionism:\nMira
 nda Baur UCD SU President &amp\; Raymond Deane\n15:00-16:00 \n\n The Movem
 ents for Palestine In Ireland: Cllr Conor Reddy &amp\; Clare O'Connor\n16:
 00-17:00 \n
LAST-MODIFIED:20250217T152121
LOCATION:Jonathan Swift Theatre\, TCD Arts Block\, College Green
ORGANIZER:mailto:info@peoplebeforeprofit.ie
SUMMARY:Palestine: Where Next For The Movement In Ireland
URL;VALUE=URI:https://ti.to/people-before-profit/palestine-where-next-for-t
 he-movement-in-ireland1
URL;VALUE=URI:https://ti.to/people-before-profit/palestine-where-next-for-t
 he-movement-in-ireland1
END:VEVENT
END:VCALENDAR
