BEGIN:VCALENDAR
VERSION:2.0
PRODID:icalendar-ruby
CALSCALE:GREGORIAN
BEGIN:VTIMEZONE
TZID:Australia/Melbourne
BEGIN:DAYLIGHT
DTSTART:20201004T030000
TZOFFSETFROM:+1000
TZOFFSETTO:+1100
RRULE:FREQ=YEARLY;BYDAY=1SU;BYMONTH=10
TZNAME:AEDT
END:DAYLIGHT
BEGIN:STANDARD
DTSTART:20210404T020000
TZOFFSETFROM:+1100
TZOFFSETTO:+1000
RRULE:FREQ=YEARLY;BYDAY=1SU;BYMONTH=4
TZNAME:AEST
END:STANDARD
END:VTIMEZONE
BEGIN:VEVENT
DTSTAMP:20260422T230144Z
UID:fxtlAw
DTSTART;VALUE=DATE:20210301
DTEND;VALUE=DATE:20210313
CLASS:PUBLIC
CREATED:20200211T142552
DESCRIPTION: Pause Fest is the world’s leading festival for business and 
 creativity. \n\n Pause Fest is an independent\, industry-driven movement w
 ith a mission to bring diverse intelligence together to fuel the next gene
 ration forward. Our innovation focus is about people\, mindset and culture
  - for a good purpose.  \n\n We’ve been described as 'Innovation Capital
 '\, 'Octoberfest for business' and 'Woodstock for digital natives’. In 2
 020\, we welcomed over 9\,000 attendees and 10\,000 online live viewers wi
 th over 80 media outlets from across the world. In fact\, over the course 
 of ten years\, our event has seen 80\,000 movers\, shakers and creative ch
 ange-makers come through its doors. \n\n In 2021\, we’re self claiming 
 ‘MTV for innovation’ title and we can’t wait for you to experience t
 he next level of online event experience built on UX. Less FOMO\, more INS
 PO. \n\n #Pause2021 theme is 'Changes'. \n
LAST-MODIFIED:20210917T121411
LOCATION:Online
ORGANIZER:mailto:info@pausefest.com.au
SUMMARY:Pause Fest 2021
URL;VALUE=URI:https://ti.to/pause-fest/2021
URL;VALUE=URI:https://ti.to/pause-fest/2021
END:VEVENT
END:VCALENDAR
