BEGIN:VCALENDAR
VERSION:2.0
PRODID:icalendar-ruby
CALSCALE:GREGORIAN
BEGIN:VTIMEZONE
TZID:Europe/Berlin
BEGIN:DAYLIGHT
DTSTART:20260329T030000
TZOFFSETFROM:+0100
TZOFFSETTO:+0200
RRULE:FREQ=YEARLY;BYDAY=-1SU;BYMONTH=3
TZNAME:CEST
END:DAYLIGHT
BEGIN:STANDARD
DTSTART:20261025T020000
TZOFFSETFROM:+0200
TZOFFSETTO:+0100
RRULE:FREQ=YEARLY;BYDAY=-1SU;BYMONTH=10
TZNAME:CET
END:STANDARD
END:VTIMEZONE
BEGIN:VEVENT
DTSTAMP:20260420T130119Z
UID:8I1niQ
DTSTART;TZID=Europe/Berlin:20260705T100000
DTEND;TZID=Europe/Berlin:20260705T190000
CLASS:PUBLIC
CREATED:20260410T173157
DESCRIPTION: Ein intensives fotografisches Erlebnis auf Glas \n\n Tauche ti
 efer in die Ambrotypie ein und erschaffe dein eigenes Bild – bewusst ges
 taltet in einem ruhigen\, konzentrierten Prozess. \n\n In der Master Exper
 ience arbeitest du mit dem originalen Verfahren auf Glas. Dieses Material 
 reagiert sensibler\, zeigt feinste Details und verleiht dem Bild eine beso
 ndere Tiefe. Es benötigt aber auch ein wenig Vorarbeit\, um das Glas für
  die Ambrotypie nutzbar zu machen. Jeder Schritt erfordert bei diesem Mate
 rial mehr Präzision und eröffnet gleichzeitig mehr gestalterische Mögli
 chkeiten. \n\n Unter intensiver Betreuung durchläufst du den gesamten Pro
 zess: vom Vorbereiten der Platte bis zur fertigen Ambrotypie. Der Fokus li
 egt dabei nicht nur auf dem Ablauf\, sondern auch auf der bewussten Gestal
 tung: Licht\, Ausdruck und Bildwirkung werden gezielt durch dich entwickel
 t und umgesetzt. \n\n Du arbeitest nicht nur im Prozess – du gestaltest 
 dein eigenes Bild. \n\n Was dich erwartet: \n\n \n Einführung in Geschich
 te\, Material und Bildwirkung der Ambrotypie \n Demonstration des gesamten
  Prozesses \n Arbeiten mit Glasplatten (18 x 24 cm) \n geführte Praxis mi
 t Fokus auf Präzision und Timing \n inszenierte Phase mit gezielter Licht
 führung (Stillleben) \n Entwicklung und Fixierung deiner eigenen Platte \
 n Final: 1 Stillleben (geführt) &amp\; 1 selbstgestaltetes Motiv (bei Bed
 arf mit Unterstützung // ausgenommen Portrait) \n Eigene Ambrotypien zum 
 Mitnehmen: zwei einzigartige\, nicht reproduzierbare Originale auf Glas in
  18 x 24 cm \n Hochwertige Rahmung deiner Lieblingsplatte inkl. UV70 Museu
 msglas zur sicheren Aufbewahrung und Präsentation – du bekommst also ei
 ne der zwei Platten gerahmt \n Individuelle und maximale Betreuung in sehr
  kleiner Gruppe \n zusätzlich: eine physische Anleitung inkl. Pflegehinwe
 is für deine Ambrotypie sowie einen gedruckten Mini-Guide mit vertiefende
 n Inhalten \n \n\n  \nInfos auf einen Blick: \n\n \n Dauer: ca. 7 – 9 h 
 (inkl. Pausen) \n ab 18 Jahre \n Sehr kleine Gruppe\; max. 3 Personen // p
 hasenweise 1:1 Betreuung \n Mindestens 2 Teilnehmer – mit weniger Teilne
 hmern findet der Workshop nicht statt und du erhältst dein Geld zurück (
 Rückmeldung spätestens 14 Tage vor Termin) \n Sprache: Deutsch // Englis
 ch auf Anfrage \n Kleine Snacks und Getränke stehen während des Tages f
 ür dich bereit \n inkl. gemeinsames Mittagessen (durch Veranstalter geste
 llt\; bei veganer Ernährungsform bitte zusätzlich etwas Eigenes mitbring
 en\, da ein passendes Angebot nicht garantiert werden kann) \n Vorkenntnis
 se sind nicht erforderlich\, können aber hilfreich sein bei der Gestaltun
 g des eigenen Bildes \n funktioniert auch als vertiefender Workshop nach d
 er Ambrotypie Experience \n \n\n  \nZusätzliche Hinweise: \n\n \n Pünktl
 ich erscheinen \n Kleidung tragen\, die schmutzig werden darf (Flecken mö
 glich) \n Ticket digital vorzeigbar \n \n\n  \nDie Master Experience ist k
 ein klassischer Workshop.\nSie ist ein bewusstes Arbeiten mit Licht\, Mate
 rial und Zeit.\nAm Ende entsteht ein Ergebnis\, das aus deinem eigenen ges
 talterischen Prozess hervorgegangen ist. \n\n Ich freue mich darauf\, dich
  dabei zu begleiten. \n\n Paul \n\n  \n[Mit deiner Bestellung akzeptierst 
 du unsere AGB.] \n
LAST-MODIFIED:20260415T172653
LOCATION:Kokerei Zollverein\, Kammgebäude
ORGANIZER:mailto:mail@paul-walther.com
SUMMARY:Workshop – Ambrotypie Master Experience – 05. Juli 2026 // 10 
 – 19 Uhr
URL;VALUE=URI:https://ti.to/paul-walther-atelier/workshop-ambrotypie-master
 -experience
URL;VALUE=URI:https://ti.to/paul-walther-atelier/workshop-ambrotypie-master
 -experience
END:VEVENT
END:VCALENDAR
