BEGIN:VCALENDAR
VERSION:2.0
PRODID:icalendar-ruby
CALSCALE:GREGORIAN
BEGIN:VTIMEZONE
TZID:Europe/Berlin
BEGIN:DAYLIGHT
DTSTART:20260329T030000
TZOFFSETFROM:+0100
TZOFFSETTO:+0200
RRULE:FREQ=YEARLY;BYDAY=-1SU;BYMONTH=3
TZNAME:CEST
END:DAYLIGHT
BEGIN:STANDARD
DTSTART:20261025T020000
TZOFFSETFROM:+0200
TZOFFSETTO:+0100
RRULE:FREQ=YEARLY;BYDAY=-1SU;BYMONTH=10
TZNAME:CET
END:STANDARD
END:VTIMEZONE
BEGIN:VEVENT
DTSTAMP:20260420T125652Z
UID:hvuvKA
DTSTART;TZID=Europe/Berlin:20260614T100000
DTEND;TZID=Europe/Berlin:20260614T183000
CLASS:PUBLIC
CREATED:20251030T135258
DESCRIPTION: Der Einstieg in die Nassplattenfotografie \n\n Erlebe die Fasz
 ination der historischen Nassplattenfotografie und erschaffe dein eigenes 
 Bild – direkt im Moment seiner Entstehung. \n\n In diesem Workshop arbei
 test du mit einem vereinfachten Zugang zur Technik und fertigst dein eigen
 es Unikat auf Aluminium an. Dieses Material ermöglicht einen direkten Ein
 stieg in den Prozess und macht die Ergebnisse besonders robust und alltags
 tauglich. Unter Anleitung durchläufst du alle wichtigen Schritte – vom 
 Beschichten über die Aufnahme bis zur Entwicklung – und erhältst ein u
 nmittelbares Verständnis für die Funktionsweise der Ambrotypie. Der Foku
 s liegt auf dem Erleben des Prozesses und dem eigenen Tun. \n\n  \nWas dic
 h erwartet: \n\n \n Einführung in Geschichte und Technik \n Demonstration
  des gesamten Prozesses \n Eigene praktische Arbeit mit Aluminium-Platten 
 \n Individuelle Betreuung in kleiner Gruppe \n Eigene Ambrotypie zum Mitne
 hmen: ein einzigartiges\, nicht reproduzierbares Original auf Aluminium in
  13 × 18 cm \n zusätzlich: eine physische Anleitung inkl. Pflegehinweis 
 für deine eigene Ambrotypie \n \n\n  \nInfos auf einen Blick: \n\n \n Dau
 er: ca. 7 – 8\,5 h (inkl. Pausen) \n ab 18 Jahre \n Kleine Gruppe\; max.
  6 Personen // Arbeiten in 2er-Gruppen im Wechsel (jeder erstellt am Ende 
 ein eigenes Bild) \n Mindestens 4 Teilnehmer – mit weniger Teilnehmern f
 indet der Workshop nicht statt und du erhältst dein Geld zurück (Rückme
 ldung spätestens 14 Tage dem Termin) \n Sprache: Deutsch // Englisch auf 
 Anfrage \n Kleine Snacks und Getränke stehen für dich bereit (größere 
 Mahlzeiten bitte selbst mitbringen) \n Für Anfänger geeignet — keine V
 orkenntnisse erforderlich \n \n\n  \nZusätzliche Hinweise: \n\n \n Pünkt
 lich erscheinen \n Kleidung tragen\, die schmutzig werden darf (Flecken m
 öglich) \n Ticket digital vorzeigbar \n \n\n  \nDieser Workshop ist der i
 deale Einstieg in eine faszinierende fotografische Technik – zugänglich
 \, direkt und mit einem greifbaren Ergebnis. \n\n Ich freue mich darauf\, 
 dich auf dem Weg zu deinem eigenen Unikat zu begleiten. \n\n Paul \n\n  \n
 [Mit deiner Bestellung akzeptierst du unsere AGB.] \n
LAST-MODIFIED:20260415T172639
LOCATION:Kokerei Zollverein\, Kammgebäude
ORGANIZER:mailto:mail@paul-walther.com
SUMMARY:Workshop – Ambrotypie Experience – 14. Juni 2026 // 10 – 18:3
 0 Uhr
URL;VALUE=URI:https://ti.to/paul-walther-atelier/workshop-ambrotypie-experi
 ence
URL;VALUE=URI:https://ti.to/paul-walther-atelier/workshop-ambrotypie-experi
 ence
END:VEVENT
END:VCALENDAR
