BEGIN:VCALENDAR
VERSION:2.0
PRODID:icalendar-ruby
CALSCALE:GREGORIAN
BEGIN:VEVENT
DTSTAMP:20260423T165844Z
UID:z0CmIQ
DTSTART;VALUE=DATE:20140222
DTEND;VALUE=DATE:20140223
CLASS:PUBLIC
CREATED:20140127T000120
DESCRIPTION: If you're interested in leveling up your public speaking skill
 s\, join us on Saturday\, February 22nd for a day of inspiring talks from 
 women who rock\, workshopping with incredible mentors from the tech commun
 ity\, and (only if you're up for it) getting on stage to deliver your firs
 t lightning talk. \n\n GitHub’s First Public Speaking Workshop For Women
  \nAt GitHub HQ in San Francisco\, CA \nSaturday\, February 22nd\, from 11
 :00am-4:00pm \n(food\, beverages\, moral support and also plenty of fun pr
 ovided) \n
LAST-MODIFIED:20231212T102856
LOCATION:GitHub HQ\, 88 Colin P. Kelly Junior Street\, San Francisco\, CA 9
 4107
ORGANIZER:mailto:julie@github.com
SUMMARY:Public Speaking Workshop for Women
URL;VALUE=URI:https://ti.to/passion-projects/public-speaking-workshop
URL;VALUE=URI:https://ti.to/passion-projects/public-speaking-workshop
END:VEVENT
END:VCALENDAR
