BEGIN:VCALENDAR
VERSION:2.0
PRODID:icalendar-ruby
CALSCALE:GREGORIAN
BEGIN:VEVENT
DTSTAMP:20260421T183943Z
UID:sjrIYA
DTSTART;VALUE=DATE:20251017
DTEND;VALUE=DATE:20251018
CLASS:PUBLIC
CREATED:20250923T121922
DESCRIPTION: 🎨✨ Watercolor Workshop with a Cause! ✨🎨 \n\n Come jo
 in us for a cozy and creative watercolor workshop where you’ll learn the
  basics of painting with watercolors\, meet new people\, and support a gre
 at cause 💙. \n\n 🌿 What you’ll paint: \n\n \n Beginner-friendly mo
 tifs: 🍂 autumn leaves\, 🌳 trees\, 🌸 simple wreaths \n Advanced op
 tions for a challenge: 🌊 ocean scene\, 🌵 cactus with hummingbird\, a
 nd more! \n \n\n 🍷 What’s included in your ticket: \n\n \n All art ma
 terials 🖌️ \n Drinks &amp\; snacks 🥂🍪 \n A donation to Madrid F
 or Refugees (MFR) 💙 \n \n\n  \n \n📍 Location:\nCalle Mira el Río Ba
 ja 20bis\, Madrid\n(Headquarters of Madrid For Refugees NGO)\n✨ Look for
  the blue banner and MFR logo above the door. We’re just around the corn
 er from Ribera de Curtidores.\nWhen? Friday at 19:00 \n\n  \n🤝 Why join
 ? \n\n \n Learn watercolor in a fun\, relaxed environment 🎨 \n Meet new
  friends &amp\; make creative connections 👫 \n Support refugees in Madr
 id 💙 \n \n\n 🎟️ Spots are limited – grab your ticket now and let
 ’s paint for a purpose!\nWe hold the right to cancel workshops if we do 
 not have enough signups. You will be fully refunded if we need to cancel t
 he workshop! \n
LAST-MODIFIED:20251015T124046
LOCATION:Calle Mira el Rio Baja 20bis. Metro Puerta de Toledo. MFR Headquar
 ters
ORGANIZER:mailto:vesta.rounsaville@gmail.com
SUMMARY:Watercolor Workshop - Paint and Sip Madrid
URL;VALUE=URI:https://ti.to/paint-and-sip-madrid/watercolor-workshop
URL;VALUE=URI:https://ti.to/paint-and-sip-madrid/watercolor-workshop
END:VEVENT
END:VCALENDAR
