BEGIN:VCALENDAR
VERSION:2.0
PRODID:icalendar-ruby
CALSCALE:GREGORIAN
BEGIN:VEVENT
DTSTAMP:20260421T183437Z
UID:iGdHtQ
DTSTART;VALUE=DATE:20251024
DTEND;VALUE=DATE:20251026
CLASS:PUBLIC
CREATED:20250923T130929
DESCRIPTION: 🎨✨ Jack Skellington Starry Night – Halloween Paint &amp
 \; Sip ✨🎃 \n\n Get into the spooky spirit with our special Halloween-
 themed Paint &amp\; Sip! 🕸️🖌️\nWe’ll be painting the iconic Ja
 ck Skellington sitting on his hill 🌙\, with a swirling Van Gogh-inspire
 d Starry Night background 🌌 – a perfect mix of Tim Burton magic &amp\
 ; classic art vibes. \n\n  \n🎃 What to expect: \n\n \n Acrylic painting
  workshop 👩‍🎨 \n Halloween-themed snacks &amp\; drinks 🍬🍷 \n
  Halloween party music to set the mood 🕺🦇 \n A fun\, creative night 
 with friends &amp\; fellow art lovers 💀✨ \n \n\n 🗓️ Dates &amp\;
  Times: \n\n \n Friday\, October 24 – 19:00-21:00 \n \n\n 📍 Location:
 \nCalle Mira el Río Baja 20bis\, Madrid\n(Headquarters of Madrid For Refu
 gees NGO)\n👉 Look for the blue banner &amp\; MFR logo above the door 
 – right around the corner from Ribera de Curtidores. \n\n  \n💙 A port
 ion of every ticket goes directly to support Madrid For Refugees. \n\n 
 🎟️ All materials included – just bring your spooky spirit &amp\; ge
 t ready to paint\, sip &amp\; celebrate Halloween with us! \n
LAST-MODIFIED:20251023T075755
LOCATION:Calle Mira el Rio Baja 20bis
ORGANIZER:mailto:vesta.rounsaville@gmail.com
SUMMARY:Jack Skellington Starry Night
URL;VALUE=URI:https://ti.to/paint-and-sip-madrid/jack-skellington-starry-ni
 ght
URL;VALUE=URI:https://ti.to/paint-and-sip-madrid/jack-skellington-starry-ni
 ght
END:VEVENT
BEGIN:VEVENT
DTSTAMP:20260421T183437Z
UID:iGdHtQ1092393
DTSTART:20251024T190000
DTEND:20251024T210000
CLASS:PUBLIC
CREATED:20251010T090647
LAST-MODIFIED:20251020T150002
ORGANIZER:mailto:vesta.rounsaville@gmail.com
SUMMARY:[Jack Skellington Starry Night] October 24th
URL;VALUE=URI:https://ti.to/paint-and-sip-madrid/jack-skellington-starry-ni
 ght
URL;VALUE=URI:https://ti.to/paint-and-sip-madrid/jack-skellington-starry-ni
 ght
END:VEVENT
END:VCALENDAR
