BEGIN:VCALENDAR
VERSION:2.0
PRODID:icalendar-ruby
CALSCALE:GREGORIAN
BEGIN:VEVENT
DTSTAMP:20260423T220745Z
UID:vXRthA
DTSTART;VALUE=DATE:20190911
DTEND;VALUE=DATE:20190913
CLASS:PUBLIC
CREATED:20190715T204410
DESCRIPTION: Every technology\, company\, and entrepreneur has a unique sta
 rt. The Tri-Cities Tech Summit 2019: Origins will highlight those stories\
 , allowing individuals to share their own Origins as they educate and insp
 ire others to learn\, do and invest in themselves\, their ideas\, and thei
 r businesses. \n\n The Uptown Theatre\, 1300 Jadwin Ave\, Richland\, WA 99
 354\nDoors open at 8:30am\, Presentations 9am - 4pm. \n
LAST-MODIFIED:20190919T181728
LOCATION:Richland\, WA
ORGANIZER:mailto:katrinaw@teknologize.com
SUMMARY:2019 TC Tech Summit\, September 11th (Social) and 12th (Summit)
URL;VALUE=URI:https://ti.to/pacific-northwest-technology-collaborative/2019
 -tc-tech-summit
URL;VALUE=URI:https://ti.to/pacific-northwest-technology-collaborative/2019
 -tc-tech-summit
END:VEVENT
END:VCALENDAR
