BEGIN:VCALENDAR
VERSION:2.0
PRODID:icalendar-ruby
CALSCALE:GREGORIAN
BEGIN:VEVENT
DTSTAMP:20260422T035651Z
UID:9atgug
DTSTART;VALUE=DATE:20180827
DTEND;VALUE=DATE:20180828
CLASS:PUBLIC
CREATED:20180815T155541
DESCRIPTION: Film fans\, we are pleased to announce that tickets for the Sc
 unthorpe Outdoor Cinema are now available. \n\n Dirty Dancing will be show
 n at Heslam Park \n\n The film will begin at 8.30pm and doors will be open
  from 7.30pm. \n\n Please remember to bring something to sit on and wrap u
 p warm. The film will continue even if it rains so bring a hood as umbrell
 as are not permitted. \n\n If you have any questions please don’t hesita
 te to contact us. \n
LAST-MODIFIED:20180831T213220
LOCATION:Heslam Park\, Scunthorpe
ORGANIZER:mailto:noreply-calendar@tito.io
SUMMARY:Outdoor Cinema presents Dirty Dancing
URL;VALUE=URI:https://ti.to/outdoor-cinema-company/august-scunthorpe-dirty-
 dancing
URL;VALUE=URI:https://ti.to/outdoor-cinema-company/august-scunthorpe-dirty-
 dancing
END:VEVENT
END:VCALENDAR
