BEGIN:VCALENDAR
VERSION:2.0
PRODID:icalendar-ruby
CALSCALE:GREGORIAN
BEGIN:VEVENT
DTSTAMP:20260420T021311Z
UID:FBTvlg
DTSTART;VALUE=DATE:20181005
DTEND;VALUE=DATE:20181008
CLASS:PUBLIC
CREATED:20180507T190633
DESCRIPTION: Join the OpenStreetMap community at State of the Map US in Det
 roit\, Michigan. Connect with other mappers\, businesses\, government agen
 cies\, and non-profits\, all collaborating around the free and editable ma
 p of the world. Share your vision for the project\, learn how to work with
  OpenStreetMap data\, and hack on the latest mapping improvements. \n
LAST-MODIFIED:20190218T092944
LOCATION:Cobo Center in Detroit\, Michigan
ORGANIZER:mailto:sotmus@openstreetmap.us
SUMMARY:State of the Map US 2018
URL;VALUE=URI:https://ti.to/osmus/state-of-the-map-us-2018
URL;VALUE=URI:https://ti.to/osmus/state-of-the-map-us-2018
END:VEVENT
BEGIN:VEVENT
DTSTAMP:20260420T021311Z
UID:FBTvlg1022255
DTSTART:20181007T140000
DTEND:20181007T160000
CLASS:PUBLIC
CREATED:20180811T133924
LAST-MODIFIED:20181007T155850
ORGANIZER:mailto:sotmus@openstreetmap.us
SUMMARY:[State of the Map US 2018] Sunday Bus Tour
URL;VALUE=URI:https://ti.to/osmus/state-of-the-map-us-2018
URL;VALUE=URI:https://ti.to/osmus/state-of-the-map-us-2018
END:VEVENT
END:VCALENDAR
