BEGIN:VCALENDAR
VERSION:2.0
PRODID:icalendar-ruby
CALSCALE:GREGORIAN
BEGIN:VEVENT
DTSTAMP:20260421T142831Z
UID:2dW0fA
DTSTART;VALUE=DATE:20140725
DTEND;VALUE=DATE:20140726
CLASS:PUBLIC
CREATED:20140629T095919
DESCRIPTION: The goal of the 25th July 2014 #MapLesotho mapathon is to assi
 st with creating a basemap of the country in OpenStreetMap which can be bu
 ilt upon by locals as Lesotho is largely a blank canvas. The aim is to ach
 ieve this using the HOT Tasking Manager. \n
LAST-MODIFIED:20140724T145615
LOCATION:Fingal County Council\, Swords\, Dublin
ORGANIZER:mailto:noreply-calendar@tito.io
SUMMARY:Lesotho Mapathon
URL;VALUE=URI:https://ti.to/osm_ie/lesothomapathon
URL;VALUE=URI:https://ti.to/osm_ie/lesothomapathon
END:VEVENT
END:VCALENDAR
