BEGIN:VCALENDAR
VERSION:2.0
PRODID:icalendar-ruby
CALSCALE:GREGORIAN
BEGIN:VTIMEZONE
TZID:Australia/Hobart
BEGIN:DAYLIGHT
DTSTART:20241006T030000
TZOFFSETFROM:+1000
TZOFFSETTO:+1100
RRULE:FREQ=YEARLY;BYDAY=1SU;BYMONTH=10
TZNAME:AEDT
END:DAYLIGHT
BEGIN:STANDARD
DTSTART:20250406T020000
TZOFFSETFROM:+1100
TZOFFSETTO:+1000
RRULE:FREQ=YEARLY;BYDAY=1SU;BYMONTH=4
TZNAME:AEST
END:STANDARD
END:VTIMEZONE
BEGIN:VEVENT
DTSTAMP:20260422T085939Z
UID:9MdBOQ
DTSTART;TZID=Australia/Hobart:20241104T090000
DTEND;TZID=Australia/Hobart:20241104T170000
CLASS:PUBLIC
CREATED:20241001T115930
DESCRIPTION: We're excited to invite everyone to QGIS Australia's second "C
 ommunity Hackathon"\, where we will explore a range of different tasks to 
 further the QGIS project. This event is open to everyone wanting to contri
 bute to QGIS\, not just developers or those already involved in the projec
 t! \n\n If you've ever wanted to dive into the QGIS community and find out
  how you can help\, then this event is perfect for you. \n
LAST-MODIFIED:20250227T145928
LOCATION:Institute for Marine and Antarctic Studies (IMAS)\, Hobart\, Tasma
 nia\, Australia
ORGANIZER:mailto:emma@north-road.com
SUMMARY:QGIS Regional User Meeting hosted by QGIS Australia
URL;VALUE=URI:https://ti.to/osgeo-oceania/qgis-au-2024
URL;VALUE=URI:https://ti.to/osgeo-oceania/qgis-au-2024
END:VEVENT
END:VCALENDAR
