BEGIN:VCALENDAR
VERSION:2.0
PRODID:icalendar-ruby
CALSCALE:GREGORIAN
BEGIN:VEVENT
DTSTAMP:20260420T001612Z
UID:jT4lig
DTSTART;VALUE=DATE:20210518
DTEND;VALUE=DATE:20210626
CLASS:PUBLIC
CREATED:20201015T143053
DESCRIPTION: As we are coming out of lockdown it is important to us to keep
  all our visitors and staff safe. We are therefore asking you to book a vi
 ewing slot for our exhibition. This will allows us to monitor visitors num
 bers and allow you a safe and calm viewing experience. \n\n The ticket giv
 es you a 60minute window to see the show. If you cannot attend last minute
  please cancel your order or contact the gallery so we can cancel it for y
 ou to ensure everyone who wants to visit will be able to. \n\n BY APPOINTM
 ENT\nSaturday viewing slots are by appointment\, please contact us to book
  a slot. \n\n Thank you \n\n Ort Gallery team \n
LAST-MODIFIED:20211020T113509
LOCATION:Birmingham\, UK
ORGANIZER:mailto:info@ortgallery.co.uk
SUMMARY:Recipes for Resistance Viewing Slots
URL;VALUE=URI:https://ti.to/ort-gallery/recipes-for-resistance-viewing-slot
 s
URL;VALUE=URI:https://ti.to/ort-gallery/recipes-for-resistance-viewing-slot
 s
END:VEVENT
END:VCALENDAR
