BEGIN:VCALENDAR
VERSION:2.0
PRODID:icalendar-ruby
CALSCALE:GREGORIAN
BEGIN:VEVENT
DTSTAMP:20260424T142406Z
UID:mq0msQ
DTSTART;VALUE=DATE:20150630
DTEND;VALUE=DATE:20150701
CLASS:PUBLIC
CREATED:20150603T135758
DESCRIPTION: Open Data Initiative Event \n
LAST-MODIFIED:20150629T205456
LOCATION:The Atrium\, Department of Justice and Equality\, 51 St. Stephen's
  Green\, Dublin 2
ORGANIZER:mailto:opendata@per.gov.ie
SUMMARY:Open Data Event
URL;VALUE=URI:https://ti.to/opendatainitiative/open-data-event
URL;VALUE=URI:https://ti.to/opendatainitiative/open-data-event
END:VEVENT
END:VCALENDAR
