BEGIN:VCALENDAR
VERSION:2.0
PRODID:icalendar-ruby
CALSCALE:GREGORIAN
BEGIN:VEVENT
DTSTAMP:20260424T094922Z
UID:VaPVaw
DTSTART;VALUE=DATE:20221122
DTEND;VALUE=DATE:20221124
CLASS:PUBLIC
CREATED:20220825T084127
DESCRIPTION: Kubernetes Community Days UK brings together the Cloud Native 
 community from across the UK to learn\, network and collaborate. Kubernete
 s Community Days UK is supported by the Cloud Native Computing Foundation\
 , and organised by community group leaders. \n\n Over the course of two da
 ys we will share stories of people using these technologies\, both success
 es and failures - through in-depth technical talks\, demonstrations of ope
 n source projects and workshops. \n
LAST-MODIFIED:20231009T140307
LOCATION:London
ORGANIZER:mailto:hello@kcduk.io
SUMMARY:Kubernetes Community Days UK 2022
URL;VALUE=URI:https://ti.to/open-source-events/kcduk2022
URL;VALUE=URI:https://ti.to/open-source-events/kcduk2022
END:VEVENT
END:VCALENDAR
