BEGIN:VCALENDAR
VERSION:2.0
PRODID:icalendar-ruby
CALSCALE:GREGORIAN
BEGIN:VEVENT
DTSTAMP:20260420T213727Z
UID:zdT1bw
DTSTART;VALUE=DATE:20140607
DTEND;VALUE=DATE:20140608
CLASS:PUBLIC
CREATED:20140520T120437
DESCRIPTION: When:  Saturday\, June 7th\, 2014 (10:00 - 18:00) \n\n Doors o
 pen: 9:30 \n\n Venue: Guinness Enterprise Centre\, Taylor's Lane\, Dublin 
 8\, Ireland (Follow this link for Google StreetView) \n\n Hashtags: #OGPja
 m #OGPirl #OGPDublin \n
LAST-MODIFIED:20170301T163342
LOCATION:Dovetail Technologies\, Guinness Enterprise Centre\, Taylor's Lane
 \, Dublin 8\, Ireland
ORGANIZER:mailto:denis.parfenov@openknowledge.ie
SUMMARY:[Meetup #13] OGP Jam 2014 - Dublin
URL;VALUE=URI:https://ti.to/open-knowledge-ireland/ogp-jam-2014
URL;VALUE=URI:https://ti.to/open-knowledge-ireland/ogp-jam-2014
END:VEVENT
END:VCALENDAR
