BEGIN:VCALENDAR
VERSION:2.0
PRODID:icalendar-ruby
CALSCALE:GREGORIAN
BEGIN:VTIMEZONE
TZID:Europe/Brussels
BEGIN:DAYLIGHT
DTSTART:20240331T030000
TZOFFSETFROM:+0100
TZOFFSETTO:+0200
RRULE:FREQ=YEARLY;BYDAY=-1SU;BYMONTH=3
TZNAME:CEST
END:DAYLIGHT
BEGIN:STANDARD
DTSTART:20231029T020000
TZOFFSETFROM:+0200
TZOFFSETTO:+0100
RRULE:FREQ=YEARLY;BYDAY=-1SU;BYMONTH=10
TZNAME:CET
END:STANDARD
END:VTIMEZONE
BEGIN:VEVENT
DTSTAMP:20260425T110441Z
UID:0FKpTQ
DTSTART;TZID=Europe/Brussels:20240315T090000
DTEND;TZID=Europe/Brussels:20240315T100000
CLASS:PUBLIC
CREATED:20240228T124523
DESCRIPTION: ColonyOS is a Meta-Operating System developed by RISE\, design
 ed to simplify and streamline utilization of heterogeneous computing infra
 structures\, including IoT\, edge\, cloud\, and HPC. It is designed to ope
 rate as an overlay to interface with a wide variety of computing environme
 nts\, enabling seamless integration and operation across different platfor
 ms.\nJohan will demonstrate how to run a cross-platform workflow on a Kube
 rnetes cluster running on the RISE ICE Datacenter\, combined with two Euro
 HPC supercomputers (LUMI and Leonardo). Additionally\, Johan will demonstr
 ate Pollinator\, a tool built on ColonyOS designed to make ML training on 
 HPC/Cloud as straightforward as using on a local computer. \n
LAST-MODIFIED:20240228T141602
LOCATION:Online
ORGANIZER:mailto:info@eucloudedgeiot.eu
SUMMARY:ColonyOS\, a Meta Operating System
URL;VALUE=URI:https://ti.to/open-continuum/colonyos-a-meta-operating-system
URL;VALUE=URI:https://ti.to/open-continuum/colonyos-a-meta-operating-system
END:VEVENT
END:VCALENDAR
