BEGIN:VCALENDAR
VERSION:2.0
PRODID:icalendar-ruby
CALSCALE:GREGORIAN
BEGIN:VEVENT
DTSTAMP:20260420T123020Z
UID:uDaFmg
DTSTART;VALUE=DATE:20180624
DTEND;VALUE=DATE:20180625
CLASS:PUBLIC
CREATED:20180601T031158
DESCRIPTION: Join the NYC Debian User Group for a BSP at 61 Local to hack o
 n Debian and squash some bugs! Show up any time between 3pm and 8pm and fi
 nd us at our reserved table. We will work and socialize until people decid
 e to go home. \n\n As this is an in-person Debian event\, all attendees wi
 ll be expected to uphold the DebConf Code of Conduct. Any concerns can be 
 reported to Elana Hashman or the Debian anti-harassment team. \n
LAST-MODIFIED:20180624T184737
LOCATION:Brooklyn\, NY
ORGANIZER:mailto:ehashman@debian.org
SUMMARY:June Debian Bug Squashing Party
URL;VALUE=URI:https://ti.to/nyc-dug/june-bsp
URL;VALUE=URI:https://ti.to/nyc-dug/june-bsp
END:VEVENT
END:VCALENDAR
